BEGIN:VCALENDAR
VERSION:2.0
PRODID:-//Squarespace Inc/Squarespace 6//v6//EN
BEGIN:VEVENT
UID:57aa197320099e332eb90f13@squarespace.com
DTSTAMP:20160809T175821Z
DTSTART:20161105T030000Z
DTEND:20161105T050000Z
SUMMARY:Carnegie Hall
GEO:40.712784;-74.005941
LOCATION:New York\, NY
END:VEVENT
END:VCALENDAR
