BEGIN:VCALENDAR
VERSION:2.0
PRODID:-//Squarespace Inc/Squarespace 6//v6//EN
BEGIN:VEVENT
UID:57d1e2399f7456d0a2acd9ee@squarespace.com
DTSTAMP:20160908T221405Z
DTSTART:20161022T030000Z
DTEND:20161022T050000Z
SUMMARY:Campbell Hall at UCSB
GEO:34.420831;-119.69819
LOCATION:Santa Barbara\, CA
END:VEVENT
END:VCALENDAR
