BEGIN:VCALENDAR
VERSION:2.0
PRODID:-//Squarespace Inc/Squarespace 6//v6//EN
BEGIN:VEVENT
UID:61a508151a976a393cbeeb12@squarespace.com
DTSTAMP:20211129T170530Z
DTSTART:20220402T020000Z
DTEND:20220402T030000Z
SUMMARY:Buckhead
END:VEVENT
END:VCALENDAR
