BEGIN:VCALENDAR
VERSION:2.0
PRODID:-//Squarespace Inc/Squarespace 6//v6//EN
BEGIN:VEVENT
UID:584e32c5b8a79bf389eb3b7f@squarespace.com
DTSTAMP:20170402T234618Z
DTSTART:20170408T030000Z
DTEND:20170408T050000Z
SUMMARY:Boulder Theater
GEO:40.014986;-105.270546
LOCATION:Boulder\, CO
END:VEVENT
END:VCALENDAR
