BEGIN:VCALENDAR
VERSION:2.0
PRODID:-//Squarespace Inc/Squarespace 6//v6//EN
BEGIN:VEVENT
UID:5c1007296d2a7315fc35f33a@squarespace.com
DTSTAMP:20181211T185232Z
DTSTART:20190325T030000Z
DTEND:20190325T040000Z
SUMMARY:Boulder Theater
GEO:40.014986;-105.270546
LOCATION:BOULDER\, CO
END:VEVENT
END:VCALENDAR
