BEGIN:VCALENDAR
VERSION:2.0
PRODID:-//Squarespace Inc/Squarespace 6//v6//EN
BEGIN:VEVENT
UID:590b8fe53a041160be03db4b@squarespace.com
DTSTAMP:20170504T203700Z
DTSTART:20170603T203000Z
DTEND:20170603T223000Z
SUMMARY:BookCon
GEO:40.712784;-74.005941
LOCATION:New York\, NY
END:VEVENT
END:VCALENDAR
