BEGIN:VCALENDAR
VERSION:2.0
PRODID:-//Squarespace Inc/Squarespace 6//v6//EN
BEGIN:VEVENT
UID:61a50a6adfd0aa6784a66e0f@squarespace.com
DTSTAMP:20211129T171521Z
DTSTART:20220428T020000Z
DTEND:20220428T030000Z
SUMMARY:Barrymore Theatre
END:VEVENT
END:VCALENDAR
