BEGIN:VCALENDAR
VERSION:2.0
PRODID:-//Squarespace Inc/Squarespace 6//v6//EN
BEGIN:VEVENT
UID:59e8b49b268b9653c500827c@squarespace.com
DTSTAMP:20171019T142523Z
DTSTART:20171030T020000Z
DTEND:20171030T040000Z
SUMMARY:Ann and Jerry Moss Theatre - Los Angeles
END:VEVENT
END:VCALENDAR
