BEGIN:VCALENDAR
VERSION:2.0
PRODID:-//Squarespace Inc/Squarespace 6//v6//EN
BEGIN:VEVENT
UID:5b35284c1ae6cf2fd494a36f@squarespace.com
DTSTAMP:20180716T043827Z
DTSTART:20180722T050000Z
DTEND:20180722T060000Z
SUMMARY:The Ice House
END:VEVENT
END:VCALENDAR
