BEGIN:VCALENDAR
VERSION:2.0
PRODID:-//Squarespace Inc/Squarespace 6//v6//EN
BEGIN:VEVENT
UID:574e18cd9f7266bca2136384@squarespace.com
DTSTAMP:20160722T170858Z
DTSTART:20160904T030000Z
DTEND:20160904T050000Z
SUMMARY:Albuquerque Journal Theatre
GEO:35.085334;-106.605553
LOCATION:Albuquerque\, Nm
END:VEVENT
END:VCALENDAR
