BEGIN:VCALENDAR
VERSION:2.0
PRODID:-//Squarespace Inc/Squarespace 6//v6//EN
BEGIN:VEVENT
UID:58e18cd7197aea8ba6013e9f@squarespace.com
DTSTAMP:20170402T234907Z
DTSTART:20170423T050000Z
DTEND:20170423T063000Z
SUMMARY:Aladdin Theater (Late Show)
GEO:45.523062;-122.676482
LOCATION:Portland\, OR
END:VEVENT
END:VCALENDAR
