BEGIN:VCALENDAR
VERSION:2.0
PRODID:-//Squarespace Inc/Squarespace 6//v6//EN
BEGIN:VEVENT
UID:584e33b9414fb5fd2904f2a8@squarespace.com
DTSTAMP:20161213T203435Z
DTSTART:20170422T030000Z
DTEND:20170422T050000Z
SUMMARY:Aladdin Theater
GEO:45.523062;-122.676482
LOCATION:Portland\, OR
END:VEVENT
END:VCALENDAR
