BEGIN:VCALENDAR
VERSION:2.0
PRODID:-//Squarespace Inc/Squarespace 6//v6//EN
BEGIN:VEVENT
UID:611d42cc932d9743eff1071d@squarespace.com
DTSTAMP:20210825T221234Z
DTSTART:20210925T020000Z
DTEND:20210925T030000Z
SUMMARY:Aladdin Theater
END:VEVENT
END:VCALENDAR
