BEGIN:VCALENDAR
VERSION:2.0
PRODID:-//Squarespace Inc/Squarespace 6//v6//EN
BEGIN:VEVENT
UID:6126c05207bdfe12d97459cc@squarespace.com
DTSTAMP:20210825T221357Z
DTSTART:20210925T050000Z
DTEND:20210925T060000Z
SUMMARY:Aladdin Theater
END:VEVENT
END:VCALENDAR
