BEGIN:VCALENDAR
VERSION:2.0
PRODID:-//Squarespace Inc/Squarespace 6//v6//EN
BEGIN:VEVENT
UID:584e33f48419c2a296da007c@squarespace.com
DTSTAMP:20161222T201230Z
DTSTART:20170423T030000Z
DTEND:20170423T050000Z
SUMMARY:Aladdin Theater
GEO:45.523062;-122.676482
LOCATION:Portland\, OR
END:VEVENT
END:VCALENDAR
