BEGIN:VCALENDAR
VERSION:2.0
PRODID:-//Squarespace Inc/Squarespace 6//v6//EN
BEGIN:VEVENT
UID:5deeccff465dcc7dc4ce8806@squarespace.com
DTSTAMP:20191209T224746Z
DTSTART:20200131T040000Z
DTEND:20200131T050000Z
SUMMARY:Agora Theatre
END:VEVENT
END:VCALENDAR
