BEGIN:VCALENDAR
VERSION:2.0
PRODID:-//Squarespace Inc/Squarespace 6//v6//EN
BEGIN:VEVENT
UID:5b4c1e0370a6ad5e7791db0a@squarespace.com
DTSTAMP:20180716T042523Z
DTSTART:20180907T030000Z
DTEND:20180907T040000Z
SUMMARY:Acme Comedy Co.
GEO:44.977753;-93.265011
LOCATION:MINNEAPOLIS MN
END:VEVENT
END:VCALENDAR
