BEGIN:VCALENDAR
VERSION:2.0
PRODID:-//Squarespace Inc/Squarespace 6//v6//EN
BEGIN:VEVENT
UID:5b4c1f66f950b741b8d0ff52@squarespace.com
DTSTAMP:20180716T043140Z
DTSTART:20180909T053000Z
DTEND:20180909T063000Z
SUMMARY:Acme Comedy Co.
GEO:40.720756;-74.000761
LOCATION:minneapolis
END:VEVENT
END:VCALENDAR
