BEGIN:VCALENDAR
VERSION:2.0
PRODID:-//Squarespace Inc/Squarespace 6//v6//EN
BEGIN:VEVENT
UID:5b4c1e7c03ce64330329937b@squarespace.com
DTSTAMP:20180716T042824Z
DTSTART:20180908T053000Z
DTEND:20180908T063000Z
SUMMARY:Acme Comedy Co.
GEO:44.977753;-93.265011
LOCATION:minneapolis
END:VEVENT
END:VCALENDAR
