BEGIN:VCALENDAR
VERSION:2.0
PRODID:-//Squarespace Inc/Squarespace 6//v6//EN
BEGIN:VEVENT
UID:5b4c1e46575d1fa91f413985@squarespace.com
DTSTAMP:20180716T042626Z
DTSTART:20180908T030000Z
DTEND:20180908T040000Z
SUMMARY:Acme Comedy Co.
GEO:44.977753;-93.265011
LOCATION:minneapolis mn
END:VEVENT
END:VCALENDAR
