BEGIN:VCALENDAR
VERSION:2.0
PRODID:-//Squarespace Inc/Squarespace 6//v6//EN
BEGIN:VEVENT
UID:5bfb238688251b85d9ff9953@squarespace.com
DTSTAMP:20181125T223535Z
DTSTART:20181203T030000Z
DTEND:20181203T040000Z
SUMMARY:The Ice House
GEO:34.147785;-118.144516
LOCATION:PASADENA\, CA
END:VEVENT
END:VCALENDAR
