BEGIN:VCALENDAR
VERSION:2.0
PRODID:-//Squarespace Inc/Squarespace 6//v6//EN
BEGIN:VEVENT
UID:5b352818aa4a99232a467138@squarespace.com
DTSTAMP:20180716T043742Z
DTSTART:20180722T030000Z
DTEND:20180722T040000Z
SUMMARY:The Ice House
GEO:40.720756;-74.000761
LOCATION:Pasadena\, CA
END:VEVENT
END:VCALENDAR
