BEGIN:VCALENDAR
VERSION:2.0
PRODID:-//Squarespace Inc/Squarespace 6//v6//EN
BEGIN:VEVENT
UID:584e2fd6e3df28e18000b2ea@squarespace.com
DTSTAMP:20161213T203144Z
DTSTART:20170306T040000Z
DTEND:20170306T060000Z
SUMMARY:The Danforth Music Hall
GEO:43.653226;-79.383184
LOCATION:Toronto\, ON
END:VEVENT
END:VCALENDAR
