BEGIN:VCALENDAR
VERSION:2.0
PRODID:-//Squarespace Inc/Squarespace 6//v6//EN
BEGIN:VEVENT
UID:568d850fc21b860adbae18f0@squarespace.com
DTSTAMP:20160303T224634Z
DTSTART:20160409T203000Z
DTEND:20160409T213000Z
SUMMARY: 	Rococo Theatre
GEO:40.825763;-96.685198
LOCATION:Rococo Theatre\, Lincoln\, NE
END:VEVENT
END:VCALENDAR
