BEGIN:VCALENDAR
VERSION:2.0
PRODID:-//Squarespace Inc/Squarespace 6//v6//EN
BEGIN:VEVENT
UID:568d8384c21b860adbae0175@squarespace.com
DTSTAMP:20160229T184134Z
DTSTART:20160408T203000Z
DTEND:20160408T213000Z
SUMMARY:Mission Freak Festival
GEO:40.807653;-91.11289
LOCATION:The Englert Theater\, Burlington\, IA\, United States
END:VEVENT
END:VCALENDAR
