BEGIN:VCALENDAR
VERSION:2.0
PRODID:-//Squarespace Inc/Squarespace 6//v6//EN
BEGIN:VEVENT
UID:568d8581c647addd9d248b65@squarespace.com
DTSTAMP:20160409T234507Z
DTSTART:20160410T203000Z
DTEND:20160410T213000Z
SUMMARY:Arvest Bank Theatre at The Midland
GEO:39.099727;-94.578567
LOCATION:Kansas City\, MO
END:VEVENT
END:VCALENDAR
